BEGIN:VCALENDAR
VERSION:2.0
PRODID:-//87.98.247.40//NONSGML kigkonsult.se iCalcreator 2.20//
CALSCALE:GREGORIAN
METHOD:PUBLISH
X-WR-TIMEZONE:UTC
BEGIN:VEVENT
UID:event123@Stadtkapelle Neu-Ulm
DTSTAMP:20260422T202756Z
CATEGORIES:Hit Kids\, Stadtkapelle
DESCRIPTION:Jahreskonzert\nKategorie: Hit Kids\, Stadtkapelle\nICS-Link: ht
 tp://stadtkapelle-neu-ulm.de/index.php?option=com_jem&view=event&id=123:ja
 hreskonzert\n
DTSTART:20211009T190000Z
DTEND:20211009T210000Z
LOCATION:Edwin-Scharff-Haus\,Neu-Ulm
SUMMARY:Jahreskonzert
URL:http://stadtkapelle-neu-ulm.de/index.php?option=com_jem&view=event&id=1
 23:jahreskonzert
END:VEVENT
END:VCALENDAR
