BEGIN:VCALENDAR
VERSION:2.0
PRODID:-//87.98.247.40//NONSGML kigkonsult.se iCalcreator 2.20//
CALSCALE:GREGORIAN
METHOD:PUBLISH
X-WR-TIMEZONE:UTC
BEGIN:VEVENT
UID:event194@Stadtkapelle Neu-Ulm
DTSTAMP:20260422T222013Z
CATEGORIES:Hit Kids
DESCRIPTION:Maibaumfeier\nKategorie: Hit Kids\nICS-Link: http://stadtkapell
 e-neu-ulm.de/index.php?option=com_jem&view=event&id=194:maibaumfeier\n
DTSTART:20260430T170000Z
DTEND:20260430T183000Z
LOCATION:Rathausplatz Neu-Ulm\,Augsburgerstr.\,89231 Neu-Ulm\,Germany
SUMMARY:Maibaumfeier
URL:http://stadtkapelle-neu-ulm.de/index.php?option=com_jem&view=event&id=1
 94:maibaumfeier
END:VEVENT
END:VCALENDAR
